BEGIN:VCALENDAR
VERSION:2.0
PRODID:-//Die Haus und Garten Welt - ECPv6.15.12.2//NONSGML v1.0//EN
CALSCALE:GREGORIAN
METHOD:PUBLISH
X-ORIGINAL-URL:https://diehausundgartenwelt.de
X-WR-CALDESC:Veranstaltungen für Die Haus und Garten Welt
REFRESH-INTERVAL;VALUE=DURATION:PT1H
X-Robots-Tag:noindex
X-PUBLISHED-TTL:PT1H
BEGIN:VTIMEZONE
TZID:Europe/Berlin
BEGIN:DAYLIGHT
TZOFFSETFROM:+0100
TZOFFSETTO:+0200
TZNAME:CEST
DTSTART:20250330T010000
END:DAYLIGHT
BEGIN:STANDARD
TZOFFSETFROM:+0200
TZOFFSETTO:+0100
TZNAME:CET
DTSTART:20251026T010000
END:STANDARD
BEGIN:DAYLIGHT
TZOFFSETFROM:+0100
TZOFFSETTO:+0200
TZNAME:CEST
DTSTART:20260329T010000
END:DAYLIGHT
BEGIN:STANDARD
TZOFFSETFROM:+0200
TZOFFSETTO:+0100
TZNAME:CET
DTSTART:20261025T010000
END:STANDARD
BEGIN:DAYLIGHT
TZOFFSETFROM:+0100
TZOFFSETTO:+0200
TZNAME:CEST
DTSTART:20270328T010000
END:DAYLIGHT
BEGIN:STANDARD
TZOFFSETFROM:+0200
TZOFFSETTO:+0100
TZNAME:CET
DTSTART:20271031T010000
END:STANDARD
END:VTIMEZONE
BEGIN:VEVENT
DTSTART;TZID=Europe/Berlin:20261016T090000
DTEND;TZID=Europe/Berlin:20261016T210000
DTSTAMP:20260425T144356
CREATED:20260211T075621Z
LAST-MODIFIED:20260211T075621Z
UID:3359-1792141200-1792184400@diehausundgartenwelt.de
SUMMARY:Eröffnung der Matthies XXL-Weihnachtswelt in Seevetal
DESCRIPTION:Das Gartencenter Matthies eröffnet am 16.10. seine Weihnachtsausstellung im Landkreis Harburg\nMit Late-Night-Shopping bis 21 Uhr und herzhaften Genüssen im Gartencafé ab 20 Uhr.
URL:https://diehausundgartenwelt.de/termin/eroeffnung-der-matthies-xxl-weihnachtswelt-in-seevetal/
LOCATION:Matthies Gartencenter\, Gustav-Becker-Straße 2\, Seevetal\, Niedersachsen\, 21218\, Deutschland
CATEGORIES:Termine
ATTACH;FMTTYPE=image/jpeg:https://diehausundgartenwelt.de/wp-content/uploads/2018/11/Logo-Matthies-gruenerleben.jpg
END:VEVENT
BEGIN:VEVENT
DTSTART;TZID=Europe/Berlin:20261115T130000
DTEND;TZID=Europe/Berlin:20261115T170000
DTSTAMP:20260425T144356
CREATED:20260211T075955Z
LAST-MODIFIED:20260211T075955Z
UID:3361-1794747600-1794762000@diehausundgartenwelt.de
SUMMARY:Advents-Shopping am Sonntag in Seevetal
DESCRIPTION:Das Gartencenter Matthies öffnet am 15. November für Weihnachtseinkäufe im Landkreis Harburg\nAb 13 Uhr öffnen bereits die Adventsfloristik-Ausstellung in der Pflanzenhalle und das Gartencafé. \nDas Gartencenter folgt um 14 Uhr für den verkaufsoffenen Sonntag
URL:https://diehausundgartenwelt.de/termin/advents-shopping-am-sonntag-in-seevetal/
LOCATION:Matthies Gartencenter\, Gustav-Becker-Straße 2\, Seevetal\, Niedersachsen\, 21218\, Deutschland
ATTACH;FMTTYPE=image/jpeg:https://diehausundgartenwelt.de/wp-content/uploads/2018/11/Logo-Matthies-gruenerleben.jpg
END:VEVENT
BEGIN:VEVENT
DTSTART;TZID=Europe/Berlin:20261122T130000
DTEND;TZID=Europe/Berlin:20261122T170000
DTSTAMP:20260425T144356
CREATED:20260211T080127Z
LAST-MODIFIED:20260211T080127Z
UID:3363-1795352400-1795366800@diehausundgartenwelt.de
SUMMARY:Adventsshopping am Sonntag in Seevetal
DESCRIPTION:Das Gartencenter Matthies öffnet am 15. November für Weihnachtseinkäufe im Landkreis Harburg\nAb 13 Uhr öffnen bereits die Adventsfloristik-Ausstellung in der Pflanzenhalle und das Gartencafé. \nDas Gartencenter folgt um 14 Uhr für den verkaufsoffenen Sonntag
URL:https://diehausundgartenwelt.de/termin/adventsshopping-am-sonntag-in-seevetal/
LOCATION:Matthies Gartencenter\, Gustav-Becker-Straße 2\, Seevetal\, Niedersachsen\, 21218\, Deutschland
ATTACH;FMTTYPE=image/jpeg:https://diehausundgartenwelt.de/wp-content/uploads/2018/11/Logo-Matthies-gruenerleben.jpg
END:VEVENT
BEGIN:VEVENT
DTSTART;TZID=Europe/Berlin:20261211T180000
DTEND;TZID=Europe/Berlin:20261211T180000
DTSTAMP:20260425T144356
CREATED:20241213T113245Z
LAST-MODIFIED:20260211T080517Z
UID:3176-1797012000-1797012000@diehausundgartenwelt.de
SUMMARY:Standard Sägeschein nach DGUV 214-059 im Gartencenter Matthies
DESCRIPTION:grün erleben – Gartencenter Matthies lädt zum großen Sägeschein im Landkreis Harburg ein\nDer Deutsche Standard Sägeschein nach DGUV 214-059 inkl. Fällen von Bäumen bis 20cm BHD ist anerkannt für Brennholzselbsterwerber\, Jäger\, Gartenbesitzer sowie gesetzlich Versicherte\, die gelegentlich die Motorsäge nutzen (Dachdecker\, Landwirte\, Feuerwehr\, etc.). \n\nTheoretischer Teil im Gartencenter Matthies: Freitag\, 11.12.2026 um 18 Uhr \nPraktischer Teil im Bereich Lüneburger Heide: Samstag 12.12.26 (ggf. auch Zusatztermin So.13.12.26) ab 8.30 Uhr \nTeilnahme nur nach vorheriger Anmeldung und Entrichtung der Teilnahmegebühr von 259€ (direkt am Ersatzteiltresen „Service & Technik“ im Gartencenter)
URL:https://diehausundgartenwelt.de/termin/grosser-saegeschein-nach-guv-8624-im-gartencenter-matthies/
LOCATION:Matthies Gartencenter\, Gustav-Becker-Straße 2\, Seevetal\, Niedersachsen\, 21218\, Deutschland
ATTACH;FMTTYPE=image/jpeg:https://diehausundgartenwelt.de/wp-content/uploads/2024/12/Depositphotos_208619848_XL-scaled-e1734089351111.jpg
END:VEVENT
END:VCALENDAR